BEGIN:VCALENDAR
VERSION:2.0
PRODID:-//The Cheese Club - ECPv6.15.20//NONSGML v1.0//EN
CALSCALE:GREGORIAN
METHOD:PUBLISH
X-ORIGINAL-URL:https://thecheeseclub.com
X-WR-CALDESC:Events for The Cheese Club
REFRESH-INTERVAL;VALUE=DURATION:PT1H
X-Robots-Tag:noindex
X-PUBLISHED-TTL:PT1H
BEGIN:VTIMEZONE
TZID:America/Los_Angeles
BEGIN:DAYLIGHT
TZOFFSETFROM:-0800
TZOFFSETTO:-0700
TZNAME:PDT
DTSTART:20220313T100000
END:DAYLIGHT
BEGIN:STANDARD
TZOFFSETFROM:-0700
TZOFFSETTO:-0800
TZNAME:PST
DTSTART:20221106T090000
END:STANDARD
BEGIN:DAYLIGHT
TZOFFSETFROM:-0800
TZOFFSETTO:-0700
TZNAME:PDT
DTSTART:20230312T100000
END:DAYLIGHT
BEGIN:STANDARD
TZOFFSETFROM:-0700
TZOFFSETTO:-0800
TZNAME:PST
DTSTART:20231105T090000
END:STANDARD
BEGIN:DAYLIGHT
TZOFFSETFROM:-0800
TZOFFSETTO:-0700
TZNAME:PDT
DTSTART:20240310T100000
END:DAYLIGHT
BEGIN:STANDARD
TZOFFSETFROM:-0700
TZOFFSETTO:-0800
TZNAME:PST
DTSTART:20241103T090000
END:STANDARD
END:VTIMEZONE
BEGIN:VEVENT
DTSTART;VALUE=DATE:20230915
DTEND;VALUE=DATE:20230919
DTSTAMP:20260419T134435
CREATED:20230817T105508Z
LAST-MODIFIED:20230827T091703Z
UID:10000008-1694736000-1695081599@thecheeseclub.com
SUMMARY:CHEESE
DESCRIPTION:The Slow Food festival dedicated to raw milk and natural cheeses returns to Bra\, Italy\, from September 15-18  \nThe program is online at https://cheese.slowfood.it/en/ \n  \nCheese\, the largest international event dedicated to raw milk\, natural cheeses and artisanal dairy products\, returns to the city of Bra\, Italy\, from September 15-18\, 2023. Organized by Slow Food and the City of Bra\, the fourteenth edition brings together herders\, cheesemakers and enthusiasts. The theme of this year’s edition is The Taste of the Meadows\, emphasizing how raw milk from pasture-raised animals are crucial to sustainable food systems.
URL:https://thecheeseclub.com/event/cheese/
LOCATION:Bra\, Italy
CATEGORIES:Cheese Festival,Cheese Market
ATTACH;FMTTYPE=image/png:https://thecheeseclub.com/wp-content/uploads/2023/08/Slow-Foods-1.png
END:VEVENT
END:VCALENDAR