BEGIN:VCALENDAR
VERSION:2.0
PRODID:-//The Cheese Club - ECPv6.15.20//NONSGML v1.0//EN
CALSCALE:GREGORIAN
METHOD:PUBLISH
X-WR-CALNAME:The Cheese Club
X-ORIGINAL-URL:https://thecheeseclub.com
X-WR-CALDESC:Events for The Cheese Club
REFRESH-INTERVAL;VALUE=DURATION:PT1H
X-Robots-Tag:noindex
X-PUBLISHED-TTL:PT1H
BEGIN:VTIMEZONE
TZID:America/Los_Angeles
BEGIN:DAYLIGHT
TZOFFSETFROM:-0800
TZOFFSETTO:-0700
TZNAME:PDT
DTSTART:20220313T100000
END:DAYLIGHT
BEGIN:STANDARD
TZOFFSETFROM:-0700
TZOFFSETTO:-0800
TZNAME:PST
DTSTART:20221106T090000
END:STANDARD
BEGIN:DAYLIGHT
TZOFFSETFROM:-0800
TZOFFSETTO:-0700
TZNAME:PDT
DTSTART:20230312T100000
END:DAYLIGHT
BEGIN:STANDARD
TZOFFSETFROM:-0700
TZOFFSETTO:-0800
TZNAME:PST
DTSTART:20231105T090000
END:STANDARD
BEGIN:DAYLIGHT
TZOFFSETFROM:-0800
TZOFFSETTO:-0700
TZNAME:PDT
DTSTART:20240310T100000
END:DAYLIGHT
BEGIN:STANDARD
TZOFFSETFROM:-0700
TZOFFSETTO:-0800
TZNAME:PST
DTSTART:20241103T090000
END:STANDARD
END:VTIMEZONE
BEGIN:VEVENT
DTSTART;VALUE=DATE:20231118
DTEND;VALUE=DATE:20231120
DTSTAMP:20260421T044426
CREATED:20231114T180941Z
LAST-MODIFIED:20231114T180941Z
UID:10000010-1700265600-1700438399@thecheeseclub.com
SUMMARY:Nidwaldner Alpchäs Märcht
DESCRIPTION:Nidwaldner Alpine Cheese Market is back! A market with a wide range of alpine and mountain cheese as well as farm products\, meat specialties\, wine tasting and children’s attractions. The alpine cheese market takes place on Saturday and Sunday\, 18th and 19th. November 2023. \nSaturday\, 9:00 a.m. – 6:00 p.m. / Sunday\, 9:00 a.m. – 5:00 p.m \nSaturday\, 9:00 a.m. – 6:00 p.m. / Sunday\, 9:00 a.m. – 5:00 p.m \n  \n  \nSaturday\, November 18\, 2023 \n6.30 p.m. – 10 p.m.: Alphäs fondue party \nReservations on 041 620 51 50 or barmettler@alpbleiki.ch \n  \nSunday\, November 19\, 2023 \n8:30 a.m. – 10:00 a.m.: Big farmer’s breakfast \nReservations on 041 620 51 50 or barmettler@alpbleiki.ch
URL:https://thecheeseclub.com/event/nidwaldner-alpchas-marcht/
LOCATION:Schützenhaus Beckenried\, Beckenried\, Switzerland
CATEGORIES:Cheese Market
ATTACH;FMTTYPE=image/jpeg:https://thecheeseclub.com/wp-content/uploads/2023/11/Nidwaldner-Alpchas-Marcht.jpeg
END:VEVENT
END:VCALENDAR