BEGIN:VCALENDAR
VERSION:2.0
PRODID:-//The Cheese Club - ECPv6.15.20//NONSGML v1.0//EN
CALSCALE:GREGORIAN
METHOD:PUBLISH
X-WR-CALNAME:The Cheese Club
X-ORIGINAL-URL:https://thecheeseclub.com
X-WR-CALDESC:Events for The Cheese Club
REFRESH-INTERVAL;VALUE=DURATION:PT1H
X-Robots-Tag:noindex
X-PUBLISHED-TTL:PT1H
BEGIN:VTIMEZONE
TZID:America/Los_Angeles
BEGIN:DAYLIGHT
TZOFFSETFROM:-0800
TZOFFSETTO:-0700
TZNAME:PDT
DTSTART:20230312T100000
END:DAYLIGHT
BEGIN:STANDARD
TZOFFSETFROM:-0700
TZOFFSETTO:-0800
TZNAME:PST
DTSTART:20231105T090000
END:STANDARD
BEGIN:DAYLIGHT
TZOFFSETFROM:-0800
TZOFFSETTO:-0700
TZNAME:PDT
DTSTART:20240310T100000
END:DAYLIGHT
BEGIN:STANDARD
TZOFFSETFROM:-0700
TZOFFSETTO:-0800
TZNAME:PST
DTSTART:20241103T090000
END:STANDARD
BEGIN:DAYLIGHT
TZOFFSETFROM:-0800
TZOFFSETTO:-0700
TZNAME:PDT
DTSTART:20250309T100000
END:DAYLIGHT
BEGIN:STANDARD
TZOFFSETFROM:-0700
TZOFFSETTO:-0800
TZNAME:PST
DTSTART:20251102T090000
END:STANDARD
END:VTIMEZONE
BEGIN:VEVENT
DTSTART;TZID=America/Los_Angeles:20240427T120000
DTEND;TZID=America/Los_Angeles:20240428T160000
DTSTAMP:20260421T115452
CREATED:20240407T131036Z
LAST-MODIFIED:20240407T131036Z
UID:10000018-1714219200-1714320000@thecheeseclub.com
SUMMARY:Oregon Cheese Festival
DESCRIPTION:Celebrate cheese and everything that goes with it! Sample and purchase local artisan cheese\, specialty foods\, beer\, wine\, and cider at the Oregon Cheese Festival.
URL:https://thecheeseclub.com/event/oregon-cheese-festival/
LOCATION:Jackson County Expo\, Seven Feathers Event Center\,\, Central Point\, Oregon\, United States
CATEGORIES:Cheese Festival
ATTACH;FMTTYPE=image/jpeg:https://thecheeseclub.com/wp-content/uploads/2024/04/OREGON-CHEESE-FEST.jpeg
END:VEVENT
BEGIN:VEVENT
DTSTART;TZID=America/Los_Angeles:20240428T130000
DTEND;TZID=America/Los_Angeles:20240428T200000
DTSTAMP:20260421T115452
CREATED:20240407T131840Z
LAST-MODIFIED:20240407T131840Z
UID:10000019-1714309200-1714334400@thecheeseclub.com
SUMMARY:Liquid City Cheese Expo
DESCRIPTION:For the Fourth Year running\, LIQUID CITY: Cheese Expo 2024 brings together a curated list of SAN DIEGO top breweries and cider makers\, along with coffee roasters\, and distillers from throughout the world and pairs them with some of the world’s best cheesemakers. \nThis one day CHEESE Extravaganza features unique one-off collaborations\, educational presentations\, demonstrations\, and explorations with CHEESEMAKERS from across AMERICA and around the world\, along with San Diego’s finest purveyors of beer\, coffee\, spirits and more. Local restaurants will also be participating and presenting at the Cheese Expo.
URL:https://thecheeseclub.com/event/liquid-city-cheese-expo/
LOCATION:Brick\, 2863 Historic Decatur Road San Diego\,\, San Diego\, CA\, United States
CATEGORIES:Cheese Festival,Cheese Tasting
END:VEVENT
END:VCALENDAR