BEGIN:VCALENDAR
VERSION:2.0
PRODID:-//The Cheese Club - ECPv6.15.20//NONSGML v1.0//EN
CALSCALE:GREGORIAN
METHOD:PUBLISH
X-ORIGINAL-URL:https://thecheeseclub.com
X-WR-CALDESC:Events for The Cheese Club
REFRESH-INTERVAL;VALUE=DURATION:PT1H
X-Robots-Tag:noindex
X-PUBLISHED-TTL:PT1H
BEGIN:VTIMEZONE
TZID:America/Los_Angeles
BEGIN:DAYLIGHT
TZOFFSETFROM:-0800
TZOFFSETTO:-0700
TZNAME:PDT
DTSTART:20230312T100000
END:DAYLIGHT
BEGIN:STANDARD
TZOFFSETFROM:-0700
TZOFFSETTO:-0800
TZNAME:PST
DTSTART:20231105T090000
END:STANDARD
BEGIN:DAYLIGHT
TZOFFSETFROM:-0800
TZOFFSETTO:-0700
TZNAME:PDT
DTSTART:20240310T100000
END:DAYLIGHT
BEGIN:STANDARD
TZOFFSETFROM:-0700
TZOFFSETTO:-0800
TZNAME:PST
DTSTART:20241103T090000
END:STANDARD
BEGIN:DAYLIGHT
TZOFFSETFROM:-0800
TZOFFSETTO:-0700
TZNAME:PDT
DTSTART:20250309T100000
END:DAYLIGHT
BEGIN:STANDARD
TZOFFSETFROM:-0700
TZOFFSETTO:-0800
TZNAME:PST
DTSTART:20251102T090000
END:STANDARD
END:VTIMEZONE
BEGIN:VEVENT
DTSTART;TZID=America/Los_Angeles:20240615T110000
DTEND;TZID=America/Los_Angeles:20240615T160000
DTSTAMP:20260423T054129
CREATED:20240520T234622Z
LAST-MODIFIED:20240520T234622Z
UID:10000024-1718449200-1718467200@thecheeseclub.com
SUMMARY:Cheese & Wine Pairing @ Damiani Wine Cellars
DESCRIPTION:Damiani Wines pairs up with local cheese monger Rachel Freier of The Cheese Club  for an educational journey\, savoring and discussing the science of wine and food pairings featuring Spring & Summer cheeses sourced from around the globe with an emphasis on the seasonality of cheese\, discussing milk and pairing cheeses and wines that are perfect for summer! A sensory experience with an educational side-effect!
URL:https://thecheeseclub.com/event/cheese-wine-pairing-damiani-wine-cellars/
LOCATION:Damiani Wine Cellars\, 4704 NY-414\, Burdett\, NY\, 14818\, United States
CATEGORIES:Cheese Class
ATTACH;FMTTYPE=image/jpeg:https://thecheeseclub.com/wp-content/uploads/2024/05/Damiani-Pic-1.jpeg
END:VEVENT
END:VCALENDAR