BEGIN:VCALENDAR
VERSION:2.0
PRODID:-//The Cheese Club - ECPv6.15.20//NONSGML v1.0//EN
CALSCALE:GREGORIAN
METHOD:PUBLISH
X-WR-CALNAME:The Cheese Club
X-ORIGINAL-URL:https://thecheeseclub.com
X-WR-CALDESC:Events for The Cheese Club
REFRESH-INTERVAL;VALUE=DURATION:PT1H
X-Robots-Tag:noindex
X-PUBLISHED-TTL:PT1H
BEGIN:VTIMEZONE
TZID:America/Los_Angeles
BEGIN:DAYLIGHT
TZOFFSETFROM:-0800
TZOFFSETTO:-0700
TZNAME:PDT
DTSTART:20230312T100000
END:DAYLIGHT
BEGIN:STANDARD
TZOFFSETFROM:-0700
TZOFFSETTO:-0800
TZNAME:PST
DTSTART:20231105T090000
END:STANDARD
BEGIN:DAYLIGHT
TZOFFSETFROM:-0800
TZOFFSETTO:-0700
TZNAME:PDT
DTSTART:20240310T100000
END:DAYLIGHT
BEGIN:STANDARD
TZOFFSETFROM:-0700
TZOFFSETTO:-0800
TZNAME:PST
DTSTART:20241103T090000
END:STANDARD
BEGIN:DAYLIGHT
TZOFFSETFROM:-0800
TZOFFSETTO:-0700
TZNAME:PDT
DTSTART:20250309T100000
END:DAYLIGHT
BEGIN:STANDARD
TZOFFSETFROM:-0700
TZOFFSETTO:-0800
TZNAME:PST
DTSTART:20251102T090000
END:STANDARD
END:VTIMEZONE
BEGIN:VEVENT
DTSTART;TZID=America/Los_Angeles:20241005T100000
DTEND;TZID=America/Los_Angeles:20241005T170000
DTSTAMP:20260422T053112
CREATED:20240910T235528Z
LAST-MODIFIED:20240910T235528Z
UID:10000036-1728122400-1728147600@thecheeseclub.com
SUMMARY:Little Falls Cheese Festival
DESCRIPTION:Welcome to New York State’s premier gathering of cheesemakers!\n\n\n\n\n\n\n\n\nJoin us in celebrating the rich history of dairying in Central New York and supporting the local businesses that continue these traditions! Featuring over 120 different cheeses\, plus locally made artisan foods and craft beverages.
URL:https://thecheeseclub.com/event/little-falls-cheese-festival/
LOCATION:Adelaide
CATEGORIES:Cheese Festival
ATTACH;FMTTYPE=image/png:https://thecheeseclub.com/wp-content/uploads/2024/09/lfcflogo2024.png
END:VEVENT
BEGIN:VEVENT
DTSTART;TZID=America/Los_Angeles:20241019T080000
DTEND;TZID=America/Los_Angeles:20241020T170000
DTSTAMP:20260422T053112
CREATED:20240903T124819Z
LAST-MODIFIED:20240903T125420Z
UID:10000035-1729324800-1729443600@thecheeseclub.com
SUMMARY:Vive el Queso!
DESCRIPTION:Long live the Cheese! It is unique in its concept\, since it directly brings the producer closer to the final consumer in one place and offers a wide variety of cheeses. In this third edition\, we will have the participation of international juries. In addition\, it is the first event where the National Mexican Artisan Cheese Competition takes place. Discover artisanal Mexican cheeses and meet their producers! \nFollow on IG
URL:https://thecheeseclub.com/event/vive-el-queso/
LOCATION:Cava de Quesos Bocanegra\, Carretera Estatal 200 km 50 Fuentezuelas\, 76780 \, Tequisquiapan\, Qro.\, Tequisquiapan\, Mexico
CATEGORIES:Cheese Festival
ATTACH;FMTTYPE=image/png:https://thecheeseclub.com/wp-content/uploads/2024/09/Screenshot-2024-09-03-at-11.45.17 AM.png
END:VEVENT
END:VCALENDAR