BEGIN:VCALENDAR
VERSION:2.0
PRODID:-//The Cheese Club - ECPv6.15.20//NONSGML v1.0//EN
CALSCALE:GREGORIAN
METHOD:PUBLISH
X-ORIGINAL-URL:https://thecheeseclub.com
X-WR-CALDESC:Events for The Cheese Club
REFRESH-INTERVAL;VALUE=DURATION:PT1H
X-Robots-Tag:noindex
X-PUBLISHED-TTL:PT1H
BEGIN:VTIMEZONE
TZID:America/Los_Angeles
BEGIN:DAYLIGHT
TZOFFSETFROM:-0800
TZOFFSETTO:-0700
TZNAME:PDT
DTSTART:20230312T100000
END:DAYLIGHT
BEGIN:STANDARD
TZOFFSETFROM:-0700
TZOFFSETTO:-0800
TZNAME:PST
DTSTART:20231105T090000
END:STANDARD
BEGIN:DAYLIGHT
TZOFFSETFROM:-0800
TZOFFSETTO:-0700
TZNAME:PDT
DTSTART:20240310T100000
END:DAYLIGHT
BEGIN:STANDARD
TZOFFSETFROM:-0700
TZOFFSETTO:-0800
TZNAME:PST
DTSTART:20241103T090000
END:STANDARD
BEGIN:DAYLIGHT
TZOFFSETFROM:-0800
TZOFFSETTO:-0700
TZNAME:PDT
DTSTART:20250309T100000
END:DAYLIGHT
BEGIN:STANDARD
TZOFFSETFROM:-0700
TZOFFSETTO:-0800
TZNAME:PST
DTSTART:20251102T090000
END:STANDARD
END:VTIMEZONE
BEGIN:VEVENT
DTSTART;TZID=America/Los_Angeles:20240921T170000
DTEND;TZID=America/Los_Angeles:20240921T210000
DTSTAMP:20260422T042454
CREATED:20240813T155828Z
LAST-MODIFIED:20240813T155828Z
UID:10000034-1726938000-1726952400@thecheeseclub.com
SUMMARY:San Francisco Cheese Fest
DESCRIPTION:Join us for the 9th Annual SF Cheese Fest to celebrate the delicious local bounty of California cheesemakers. Mingle with a multitude of artisan cheesemakers and artisan food producers from around the state\, sample dozens of cheeses\, cured meats\, jams\, desserts\, bites and more.
URL:https://thecheeseclub.com/event/san-francisco-cheese-fest/
CATEGORIES:Cheese Festival
ATTACH;FMTTYPE=image/jpeg:https://thecheeseclub.com/wp-content/uploads/2024/08/https-cdn.evbuc_.com-images-809635629-142722326505-1-original.20240717-180819.jpeg
ORGANIZER;CN="CA Cheese Guild":MAILTO:info@cacheeseguild.org
END:VEVENT
END:VCALENDAR